BEGIN:VCALENDAR
VERSION:2.0
PRODID:-//Mná na hÉireann - ECPv6.15.20//NONSGML v1.0//EN
CALSCALE:GREGORIAN
METHOD:PUBLISH
X-WR-CALNAME:Mná na hÉireann
X-ORIGINAL-URL:https://mnanaheireann.com
X-WR-CALDESC:Events for Mná na hÉireann
REFRESH-INTERVAL;VALUE=DURATION:PT1H
X-Robots-Tag:noindex
X-PUBLISHED-TTL:PT1H
BEGIN:VTIMEZONE
TZID:Europe/Paris
BEGIN:DAYLIGHT
TZOFFSETFROM:+0100
TZOFFSETTO:+0200
TZNAME:CEST
DTSTART:20250330T010000
END:DAYLIGHT
BEGIN:STANDARD
TZOFFSETFROM:+0200
TZOFFSETTO:+0100
TZNAME:CET
DTSTART:20251026T010000
END:STANDARD
BEGIN:DAYLIGHT
TZOFFSETFROM:+0100
TZOFFSETTO:+0200
TZNAME:CEST
DTSTART:20260329T010000
END:DAYLIGHT
BEGIN:STANDARD
TZOFFSETFROM:+0200
TZOFFSETTO:+0100
TZNAME:CET
DTSTART:20261025T010000
END:STANDARD
BEGIN:DAYLIGHT
TZOFFSETFROM:+0100
TZOFFSETTO:+0200
TZNAME:CEST
DTSTART:20270328T010000
END:DAYLIGHT
BEGIN:STANDARD
TZOFFSETFROM:+0200
TZOFFSETTO:+0100
TZNAME:CET
DTSTART:20271031T010000
END:STANDARD
END:VTIMEZONE
BEGIN:VEVENT
DTSTART;TZID=Europe/Paris:20260420T100000
DTEND;TZID=Europe/Paris:20260913T170000
DTSTAMP:20260421T140802
CREATED:20260420T221621Z
LAST-MODIFIED:20260420T221624Z
UID:35615-1776679200-1789318800@mnanaheireann.com
SUMMARY:Ashes to Fashion Exibition - Belfast
DESCRIPTION:On 11th November 1976\, a devastating fire at Malone House in South Belfast – where the Ulster Museum’s fashion collection was being stored at the time – led to the near-total loss of the original costume and textile collection. \n\n\n\nFifty years on\, the Ulster Museum fashion collection stands stronger than ever. A collection reborn through significant acquisitions\, a future-proof collecting policy and generous donations\, making it one of the most important collections in Western Europe.  \n\n\n\nAshes to Fashion marks this extraordinary milestone with a stunning showcase of fashion from the eighteenth century to today\, from historic garments to contemporary pieces by Chanel and Versace. 
URL:https://mnanaheireann.com/event/ashes-to-fashion-exibition-belfast/
LOCATION:Ulster Museum\, Stranmills Road\, Belfast\, BT9 5AB\, Ireland
CATEGORIES:Culture
ATTACH;FMTTYPE=image/webp:https://mnanaheireann.com/wp-content/uploads/2026/04/Ashes-to-Fashion-3.webp
END:VEVENT
END:VCALENDAR