BEGIN:VCALENDAR
VERSION:2.0
PRODID:-//Mná na hÉireann - ECPv6.15.20//NONSGML v1.0//EN
CALSCALE:GREGORIAN
METHOD:PUBLISH
X-WR-CALNAME:Mná na hÉireann
X-ORIGINAL-URL:https://mnanaheireann.com
X-WR-CALDESC:Events for Mná na hÉireann
REFRESH-INTERVAL;VALUE=DURATION:PT1H
X-Robots-Tag:noindex
X-PUBLISHED-TTL:PT1H
BEGIN:VTIMEZONE
TZID:Europe/Paris
BEGIN:DAYLIGHT
TZOFFSETFROM:+0100
TZOFFSETTO:+0200
TZNAME:CEST
DTSTART:20250330T010000
END:DAYLIGHT
BEGIN:STANDARD
TZOFFSETFROM:+0200
TZOFFSETTO:+0100
TZNAME:CET
DTSTART:20251026T010000
END:STANDARD
BEGIN:DAYLIGHT
TZOFFSETFROM:+0100
TZOFFSETTO:+0200
TZNAME:CEST
DTSTART:20260329T010000
END:DAYLIGHT
BEGIN:STANDARD
TZOFFSETFROM:+0200
TZOFFSETTO:+0100
TZNAME:CET
DTSTART:20261025T010000
END:STANDARD
BEGIN:DAYLIGHT
TZOFFSETFROM:+0100
TZOFFSETTO:+0200
TZNAME:CEST
DTSTART:20270328T010000
END:DAYLIGHT
BEGIN:STANDARD
TZOFFSETFROM:+0200
TZOFFSETTO:+0100
TZNAME:CET
DTSTART:20271031T010000
END:STANDARD
END:VTIMEZONE
BEGIN:VEVENT
DTSTART;TZID=Europe/Paris:20260201T100000
DTEND;TZID=Europe/Paris:20260208T200000
DTSTAMP:20260423T121337
CREATED:20251207T230519Z
LAST-MODIFIED:20251207T230800Z
UID:33645-1769940000-1770580800@mnanaheireann.com
SUMMARY:Exhibition - The Rediscovered Treasure of the Sun King Le Grand Palais - Paris
DESCRIPTION:If you have fond memories of your history classes in school and were in awe of the wonders of the Versailles Palace\, you have 7 days in february  to admire a royal treasure! A historical first: the monumental carpets ordered by Louis XIV for the Grande Galerie du Louvre are gathered and presented under the glass roof of the Grand Palais. An unprecedented event\, not to be missed.
URL:https://mnanaheireann.com/event/exhibition-the-found-tresor-of-the-sun-king-le-grand-palais-paris/
LOCATION:Le Grand Palais\, 17 avenue du Général Eisenhower\, Paris\, 75008\, France
CATEGORIES:Culture
ATTACH;FMTTYPE=image/jpeg:https://mnanaheireann.com/wp-content/uploads/2025/12/image-expo-roi-soleil-grand-palais-feb-26.jpg
END:VEVENT
END:VCALENDAR