BEGIN:VCALENDAR
VERSION:2.0
PRODID:-//Mná na hÉireann - ECPv6.15.20//NONSGML v1.0//EN
CALSCALE:GREGORIAN
METHOD:PUBLISH
X-WR-CALNAME:Mná na hÉireann
X-ORIGINAL-URL:https://mnanaheireann.com
X-WR-CALDESC:Events for Mná na hÉireann
REFRESH-INTERVAL;VALUE=DURATION:PT1H
X-Robots-Tag:noindex
X-PUBLISHED-TTL:PT1H
BEGIN:VTIMEZONE
TZID:Europe/Paris
BEGIN:DAYLIGHT
TZOFFSETFROM:+0100
TZOFFSETTO:+0200
TZNAME:CEST
DTSTART:20250330T010000
END:DAYLIGHT
BEGIN:STANDARD
TZOFFSETFROM:+0200
TZOFFSETTO:+0100
TZNAME:CET
DTSTART:20251026T010000
END:STANDARD
BEGIN:DAYLIGHT
TZOFFSETFROM:+0100
TZOFFSETTO:+0200
TZNAME:CEST
DTSTART:20260329T010000
END:DAYLIGHT
BEGIN:STANDARD
TZOFFSETFROM:+0200
TZOFFSETTO:+0100
TZNAME:CET
DTSTART:20261025T010000
END:STANDARD
BEGIN:DAYLIGHT
TZOFFSETFROM:+0100
TZOFFSETTO:+0200
TZNAME:CEST
DTSTART:20270328T010000
END:DAYLIGHT
BEGIN:STANDARD
TZOFFSETFROM:+0200
TZOFFSETTO:+0100
TZNAME:CET
DTSTART:20271031T010000
END:STANDARD
END:VTIMEZONE
BEGIN:VEVENT
DTSTART;TZID=Europe/Paris:20260326T203000
DTEND;TZID=Europe/Paris:20260517T230000
DTSTAMP:20260425T231401
CREATED:20260309T203910Z
LAST-MODIFIED:20260309T205258Z
UID:35219-1774557000-1779058800@mnanaheireann.com
SUMMARY:Le CID à la Comedie Francaise
DESCRIPTION:The emblematic piece of French classical theatre\, ‘Le Cid’!  \n\n\n\nThe return of Denis Podalydès to the staging with this mythical play. When the father of Chimène slaps Rodrigue’s father out of jealousy\, a deadly duel ensues. Corneille locks the lovers in an absolute dilemma\, to be discovered.  \n\n\n\nRecognised as a genius of litterature\, Corneille was nonetheless accused\, at the first represntation of his play in 1637\, of not respecting the three-unit rule of  time\, place and action.  \n\n\n\nBenjamin Laverrnhe who amazed us all with his multiple talents when presenting the Césars this year will undoubtedly thrill us playing Don Rodrigue.   \n\n\n\nMatinées certain days
URL:https://mnanaheireann.com/event/le-cid-a-la-comedie-francaise/
LOCATION:La Comedie Française\, 1 Place Colette\, Paris\, 75001\, France
CATEGORIES:Culture
ATTACH;FMTTYPE=image/jpeg:https://mnanaheireann.com/wp-content/uploads/2026/03/le-Cid.jpg
END:VEVENT
END:VCALENDAR