BEGIN:VCALENDAR
VERSION:2.0
PRODID:-//Mná na hÉireann - ECPv6.15.20//NONSGML v1.0//EN
CALSCALE:GREGORIAN
METHOD:PUBLISH
X-WR-CALNAME:Mná na hÉireann
X-ORIGINAL-URL:https://mnanaheireann.com
X-WR-CALDESC:Events for Mná na hÉireann
REFRESH-INTERVAL;VALUE=DURATION:PT1H
X-Robots-Tag:noindex
X-PUBLISHED-TTL:PT1H
BEGIN:VTIMEZONE
TZID:Europe/Paris
BEGIN:DAYLIGHT
TZOFFSETFROM:+0100
TZOFFSETTO:+0200
TZNAME:CEST
DTSTART:20250330T010000
END:DAYLIGHT
BEGIN:STANDARD
TZOFFSETFROM:+0200
TZOFFSETTO:+0100
TZNAME:CET
DTSTART:20251026T010000
END:STANDARD
BEGIN:DAYLIGHT
TZOFFSETFROM:+0100
TZOFFSETTO:+0200
TZNAME:CEST
DTSTART:20260329T010000
END:DAYLIGHT
BEGIN:STANDARD
TZOFFSETFROM:+0200
TZOFFSETTO:+0100
TZNAME:CET
DTSTART:20261025T010000
END:STANDARD
BEGIN:DAYLIGHT
TZOFFSETFROM:+0100
TZOFFSETTO:+0200
TZNAME:CEST
DTSTART:20270328T010000
END:DAYLIGHT
BEGIN:STANDARD
TZOFFSETFROM:+0200
TZOFFSETTO:+0100
TZNAME:CET
DTSTART:20271031T010000
END:STANDARD
END:VTIMEZONE
BEGIN:VEVENT
DTSTART;TZID=Europe/Paris:20260304T193000
DTEND;TZID=Europe/Paris:20260304T223000
DTSTAMP:20260422T104120
CREATED:20260225T143356Z
LAST-MODIFIED:20260225T143844Z
UID:34981-1772652600-1772663400@mnanaheireann.com
SUMMARY:New Album Release Party - Point Éphémère Paris
DESCRIPTION:Mná Member\, Nicola Martin who runs the independent music label Yellow Leaf Music is delighted to announce an exceptional showcase concert at Point Éphémère.  \n\n\n\nCONVOITISE\, the Toulouse-based band with hundreds of concerts under its belt\, is coming to Paris to present its latest set. A concert not to be missed\, with a rare electric pop sound on stage. \n\n\n\nSOLFEA\, the young singer\, offers us a live performance combining rock and soft\, modern pop. Solfea is quickly making a name for herself on the Parisian scene. She will be accompanied for the occasion by exceptional musicians (Geoffroy Tekeyan\, Quentin Duchêne\, Leni Mirasi-Wagner\, and Fabrizio Dori). \n\n\n\nJonathon Vya\, who currently plays in Mama Miak\, will present his solo songs at the beginning of the show. Other surprises are to be expected in the first half.
URL:https://mnanaheireann.com/event/new-album-release-party-point-ephemere-paris/
LOCATION:Point Éphémère\, 200 Quai de Valmy\,\, 75010\, France
CATEGORIES:Culture
ATTACH;FMTTYPE=image/jpeg:https://mnanaheireann.com/wp-content/uploads/2026/02/Mna_Events_Release-Party.N.Martin.jpeg
END:VEVENT
END:VCALENDAR