BEGIN:VCALENDAR
VERSION:2.0
PRODID:-//Mná na hÉireann - ECPv6.15.20//NONSGML v1.0//EN
CALSCALE:GREGORIAN
METHOD:PUBLISH
X-WR-CALNAME:Mná na hÉireann
X-ORIGINAL-URL:https://mnanaheireann.com
X-WR-CALDESC:Events for Mná na hÉireann
REFRESH-INTERVAL;VALUE=DURATION:PT1H
X-Robots-Tag:noindex
X-PUBLISHED-TTL:PT1H
BEGIN:VTIMEZONE
TZID:Europe/Paris
BEGIN:DAYLIGHT
TZOFFSETFROM:+0100
TZOFFSETTO:+0200
TZNAME:CEST
DTSTART:20250330T010000
END:DAYLIGHT
BEGIN:STANDARD
TZOFFSETFROM:+0200
TZOFFSETTO:+0100
TZNAME:CET
DTSTART:20251026T010000
END:STANDARD
BEGIN:DAYLIGHT
TZOFFSETFROM:+0100
TZOFFSETTO:+0200
TZNAME:CEST
DTSTART:20260329T010000
END:DAYLIGHT
BEGIN:STANDARD
TZOFFSETFROM:+0200
TZOFFSETTO:+0100
TZNAME:CET
DTSTART:20261025T010000
END:STANDARD
BEGIN:DAYLIGHT
TZOFFSETFROM:+0100
TZOFFSETTO:+0200
TZNAME:CEST
DTSTART:20270328T010000
END:DAYLIGHT
BEGIN:STANDARD
TZOFFSETFROM:+0200
TZOFFSETTO:+0100
TZNAME:CET
DTSTART:20271031T010000
END:STANDARD
END:VTIMEZONE
BEGIN:VEVENT
DTSTART;TZID=Europe/Paris:20260408T100000
DTEND;TZID=Europe/Paris:20260630T170000
DTSTAMP:20260425T134552
CREATED:20260424T214144Z
LAST-MODIFIED:20260424T214147Z
UID:35690-1775642400-1782838800@mnanaheireann.com
SUMMARY:NO IRISH NEED APPLY - Epic Museum Dublin
DESCRIPTION:This new temporary exhibition within EPIC The Irish Emigration Museum asks how the millions of Irish people in England have fared over the past 200 years. Based on landmark economic history research using new big data analysis\, it tracks the wealth\, health\, and living standards of Irish migrants and families of Irish descent\, showing that the Irish were substantially poorer than their English neighbours for generations. \n\n\n\nNo Irish Need Apply? highlights the extraordinary contribution Irish women and men have made to the English economy and wider society\, through their hard work\, vibrant culture\, and political activism. The exhibition also includes the words and music of Irish migrants in England captured in Philip Donnellan’s 1965 film “The Irishmen”\, in collaboration with the Irish Film Institute. 
URL:https://mnanaheireann.com/event/no-irish-need-apply-epic-museum-dublin/
LOCATION:Epic Museum Dublin\, Customs House Quay\, Dublin\, D01 R9Y0\, Ireland
CATEGORIES:Culture
ATTACH;FMTTYPE=image/webp:https://mnanaheireann.com/wp-content/uploads/2026/04/No-Irish-Need-Apply-Epic-Museum-ireland.webp
END:VEVENT
END:VCALENDAR