BEGIN:VCALENDAR
VERSION:2.0
PRODID:-//Mná na hÉireann - ECPv6.15.20//NONSGML v1.0//EN
CALSCALE:GREGORIAN
METHOD:PUBLISH
X-WR-CALNAME:Mná na hÉireann
X-ORIGINAL-URL:https://mnanaheireann.com
X-WR-CALDESC:Events for Mná na hÉireann
REFRESH-INTERVAL;VALUE=DURATION:PT1H
X-Robots-Tag:noindex
X-PUBLISHED-TTL:PT1H
BEGIN:VTIMEZONE
TZID:Europe/Paris
BEGIN:DAYLIGHT
TZOFFSETFROM:+0100
TZOFFSETTO:+0200
TZNAME:CEST
DTSTART:20250330T010000
END:DAYLIGHT
BEGIN:STANDARD
TZOFFSETFROM:+0200
TZOFFSETTO:+0100
TZNAME:CET
DTSTART:20251026T010000
END:STANDARD
BEGIN:DAYLIGHT
TZOFFSETFROM:+0100
TZOFFSETTO:+0200
TZNAME:CEST
DTSTART:20260329T010000
END:DAYLIGHT
BEGIN:STANDARD
TZOFFSETFROM:+0200
TZOFFSETTO:+0100
TZNAME:CET
DTSTART:20261025T010000
END:STANDARD
BEGIN:DAYLIGHT
TZOFFSETFROM:+0100
TZOFFSETTO:+0200
TZNAME:CEST
DTSTART:20270328T010000
END:DAYLIGHT
BEGIN:STANDARD
TZOFFSETFROM:+0200
TZOFFSETTO:+0100
TZNAME:CET
DTSTART:20271031T010000
END:STANDARD
END:VTIMEZONE
BEGIN:VEVENT
DTSTART;TZID=Europe/Paris:20260313T190000
DTEND;TZID=Europe/Paris:20260426T220000
DTSTAMP:20260421T141016
CREATED:20251214T224847Z
LAST-MODIFIED:20251214T224850Z
UID:33869-1773428400-1777240800@mnanaheireann.com
SUMMARY:POOR by Katriona O'Sullivan - Dublin
DESCRIPTION:The highly anticipated return of POOR\, the acclaimed stage adaptation of Katriona O’Sullivan’s powerful memoir\, adapted by Sonya Kelly\, directed by Gate Theatre Artistic Director Róisín McBrinn coming back to the Gate stage following its sold-out run and overwhelming audience demand. \n\n\n\nPOOR charts Katriona O’Sullivan’s extraordinary journey as she emerges from her childhood in Coventry and Birmingham marked by poverty\, addiction and homelessness. Moving to Dublin as a teenager\, POOR follows O’Sullivan as she overcomes seemingly insurmountable obstacles to earn a PhD from Trinity College Dublin and inspire a generation through her writing\, teaching and speaking. This unforgettable story is vividly and movingly portrayed through her close relationships with family and friends\, and thrums with the music that has resonated through her life.  
URL:https://mnanaheireann.com/event/poor-by-katriona-osullivan-dublin/
LOCATION:Gate Theatre\, Cavendish Row\, Parnell Square\,\, Dublin\, D01 WY26\, Ireland
CATEGORIES:Culture
ATTACH;FMTTYPE=image/webp:https://mnanaheireann.com/wp-content/uploads/2025/12/Mna_Events_Poor-Dublin.webp
END:VEVENT
END:VCALENDAR