BEGIN:VCALENDAR
VERSION:2.0
PRODID:-//Mná na hÉireann - ECPv6.15.20//NONSGML v1.0//EN
CALSCALE:GREGORIAN
METHOD:PUBLISH
X-WR-CALNAME:Mná na hÉireann
X-ORIGINAL-URL:https://mnanaheireann.com
X-WR-CALDESC:Events for Mná na hÉireann
REFRESH-INTERVAL;VALUE=DURATION:PT1H
X-Robots-Tag:noindex
X-PUBLISHED-TTL:PT1H
BEGIN:VTIMEZONE
TZID:Europe/Paris
BEGIN:DAYLIGHT
TZOFFSETFROM:+0100
TZOFFSETTO:+0200
TZNAME:CEST
DTSTART:20230326T010000
END:DAYLIGHT
BEGIN:STANDARD
TZOFFSETFROM:+0200
TZOFFSETTO:+0100
TZNAME:CET
DTSTART:20231029T010000
END:STANDARD
BEGIN:DAYLIGHT
TZOFFSETFROM:+0100
TZOFFSETTO:+0200
TZNAME:CEST
DTSTART:20240331T010000
END:DAYLIGHT
BEGIN:STANDARD
TZOFFSETFROM:+0200
TZOFFSETTO:+0100
TZNAME:CET
DTSTART:20241027T010000
END:STANDARD
BEGIN:DAYLIGHT
TZOFFSETFROM:+0100
TZOFFSETTO:+0200
TZNAME:CEST
DTSTART:20250330T010000
END:DAYLIGHT
BEGIN:STANDARD
TZOFFSETFROM:+0200
TZOFFSETTO:+0100
TZNAME:CET
DTSTART:20251026T010000
END:STANDARD
END:VTIMEZONE
BEGIN:VEVENT
DTSTART;TZID=Europe/Paris:20240830T210000
DTEND;TZID=Europe/Paris:20240907T210000
DTSTAMP:20260422T205250
CREATED:20240816T161529Z
LAST-MODIFIED:20240816T161531Z
UID:28490-1725051600-1725742800@mnanaheireann.com
SUMMARY:Silhouette 2024 Festival: Open-Air cinema is back!
DESCRIPTION:For short film followers\, don’t miss out on this new edition of the Silhouette Festival\, an event for film lovers and the curious in search of artistic discoveries. Hosted in Parc de la Butte du Chapeau Rouge\, in the 19th arrondissement\, this free festival promises a vibrating week of open-air screenings and concerts to mark the end of summer. \n\n\n\nScreenings will continue every evening\, offering audiences the chance to discover captivating works under the stars.
URL:https://mnanaheireann.com/event/silhouette-2024-festival-open-air-cinema-is-back/
LOCATION:Parc de la Butte du Chapeau Rouge\, 75019 Paris\, Parc de la Butte du Chapeau Rouge\, Paris\, 75019\, France
CATEGORIES:Culture,Music
ATTACH;FMTTYPE=image/jpeg:https://mnanaheireann.com/wp-content/uploads/2024/08/festival-silhouette.jpg
END:VEVENT
BEGIN:VEVENT
DTSTART;TZID=Europe/Paris:20240920T000000
DTEND;TZID=Europe/Paris:20240920T235959
DTSTAMP:20260422T205250
CREATED:20240901T125445Z
LAST-MODIFIED:20240901T130142Z
UID:28644-1726790400-1726876799@mnanaheireann.com
SUMMARY:Cultural Night in IRELAND - Various Locations
DESCRIPTION:For those in Ireland on Sept 20th\, the 19th edition of Culture Night will take place in Dublin & Nationwide.  \n\n\n\nCulture Night / Oíche Chultúir is organised by the Arts Council\, to share a national moment\, celebrating culture\, creativity and the arts and seeks to actively promote that our culture is rich\, varied\, alive\, treasured and nurtured in people’s lives\, today and every day. \n\n\n\nCheck out the details\, nationwide in cities\, towns\, villages and rural locations as well as online and through multiple media partners\, lots of GREAT CRAIC to be had for FREE
URL:https://mnanaheireann.com/event/cultural-night-in-ireland-various-locations/
LOCATION:Dublin Ireland\, Dublin\, Ireland
CATEGORIES:Culture,Music,Sport
ATTACH;FMTTYPE=image/jpeg:https://mnanaheireann.com/wp-content/uploads/2024/09/WO-Culture-Night24_1200x600.jpg
END:VEVENT
BEGIN:VEVENT
DTSTART;TZID=Europe/Paris:20240920T180000
DTEND;TZID=Europe/Paris:20240922T220000
DTSTAMP:20260422T205250
CREATED:20240901T135646Z
LAST-MODIFIED:20240901T135912Z
UID:28658-1726855200-1727042400@mnanaheireann.com
SUMMARY:Celtic Nua Musical Weekend in Peyriac de Mer
DESCRIPTION:CELTIC NUA  is delighted to announce an important upcoming Irish event  – the Inauguration of Celtic Nua becoming a branch member of Comhaltas Ceoltóiri Éireann will take place in Peyriac de Mer and lots of festivities and music sessions to be enjoyed by all.  \n\n\n\nIt is an exciting new chapter for Celtic Nua to become the Branch for Occiatnie. Many musicians and attendees will travel over from Ireland\, including the President of Comahltas\, Attracta Brady\, the head of Comhaltas Diaspora Brendan McAleer. Kevin McGreevy the Irish Consulate in Toulouse\, and Embassy staff from Paris will also join for this important cultural and musical ceremony.
URL:https://mnanaheireann.com/event/celtic-nua-musical-weekend-in-peyriac-de-mer/
LOCATION:Celtic Nua\, Peyriac de Mer\, France
CATEGORIES:Culture,Mná Events,Music
ATTACH;FMTTYPE=image/jpeg:https://mnanaheireann.com/wp-content/uploads/2024/09/Celtic-Nua.jpg
END:VEVENT
BEGIN:VEVENT
DTSTART;TZID=Europe/Paris:20240924T193000
DTEND;TZID=Europe/Paris:20240924T210000
DTSTAMP:20260422T205250
CREATED:20240823T090440Z
LAST-MODIFIED:20240827T082547Z
UID:28575-1727206200-1727211600@mnanaheireann.com
SUMMARY:Concert Jazz Folk – Liv Monaghan
DESCRIPTION:at Sunset Side Jazz Club – Chatelet  \n\n\n\n\n\nVenue Address : 60 rue des Lombards\, 75001 Paris
URL:https://mnanaheireann.com/event/concert-jazz-folk-liv-monaghan-3/
CATEGORIES:Mná Events,Music
ATTACH;FMTTYPE=image/jpeg:https://mnanaheireann.com/wp-content/uploads/2024/08/Liv_promo-240924.jpg
END:VEVENT
BEGIN:VEVENT
DTSTART;TZID=Europe/Paris:20240928T193000
DTEND;TZID=Europe/Paris:20240928T203000
DTSTAMP:20260422T205250
CREATED:20240806T160425Z
LAST-MODIFIED:20240821T074249Z
UID:28395-1727551800-1727555400@mnanaheireann.com
SUMMARY:Candlelight Experience : Tribute to Adele
DESCRIPTION:Candlelight is a magical musical experience in beautiful candlelit venues. Buy your tickets now for this Candlelight Open Air concert : Tribute to Adele in Paris! \n\n\n\nHouse of Oceans in Paris joins forces with Candlelight to offer you an exceptional evening in the heart of the Latin Quarter in the charm of a Florentine palace.  \n\n\n\nArtistes : Quatuor à cordes – Ensemble Paname \n\n\n\nArrive as early as 7pm to get the evening off to a great start and good seats.
URL:https://mnanaheireann.com/event/open-air-candlelight-tribute-to-adele/
CATEGORIES:Music
ATTACH;FMTTYPE=image/avif:https://mnanaheireann.com/wp-content/uploads/2024/08/Candlelight-Adele.avif
END:VEVENT
END:VCALENDAR