BEGIN:VCALENDAR
VERSION:2.0
PRODID:-//Mná na hÉireann - ECPv6.15.20//NONSGML v1.0//EN
CALSCALE:GREGORIAN
METHOD:PUBLISH
X-WR-CALNAME:Mná na hÉireann
X-ORIGINAL-URL:https://mnanaheireann.com
X-WR-CALDESC:Events for Mná na hÉireann
REFRESH-INTERVAL;VALUE=DURATION:PT1H
X-Robots-Tag:noindex
X-PUBLISHED-TTL:PT1H
BEGIN:VTIMEZONE
TZID:Europe/Paris
BEGIN:DAYLIGHT
TZOFFSETFROM:+0100
TZOFFSETTO:+0200
TZNAME:CEST
DTSTART:20230326T010000
END:DAYLIGHT
BEGIN:STANDARD
TZOFFSETFROM:+0200
TZOFFSETTO:+0100
TZNAME:CET
DTSTART:20231029T010000
END:STANDARD
BEGIN:DAYLIGHT
TZOFFSETFROM:+0100
TZOFFSETTO:+0200
TZNAME:CEST
DTSTART:20240331T010000
END:DAYLIGHT
BEGIN:STANDARD
TZOFFSETFROM:+0200
TZOFFSETTO:+0100
TZNAME:CET
DTSTART:20241027T010000
END:STANDARD
BEGIN:DAYLIGHT
TZOFFSETFROM:+0100
TZOFFSETTO:+0200
TZNAME:CEST
DTSTART:20250330T010000
END:DAYLIGHT
BEGIN:STANDARD
TZOFFSETFROM:+0200
TZOFFSETTO:+0100
TZNAME:CET
DTSTART:20251026T010000
END:STANDARD
BEGIN:DAYLIGHT
TZOFFSETFROM:+0100
TZOFFSETTO:+0200
TZNAME:CEST
DTSTART:20260329T010000
END:DAYLIGHT
BEGIN:STANDARD
TZOFFSETFROM:+0200
TZOFFSETTO:+0100
TZNAME:CET
DTSTART:20261025T010000
END:STANDARD
END:VTIMEZONE
BEGIN:VEVENT
DTSTART;TZID=Europe/Paris:20241215T193000
DTEND;TZID=Europe/Paris:20250226T213000
DTSTAMP:20260422T124831
CREATED:20241129T160352Z
LAST-MODIFIED:20241129T160649Z
UID:29838-1734291000-1740605400@mnanaheireann.com
SUMMARY:Candlelight: Tribute to Coldplay VS Imagine Dragons
DESCRIPTION:⭐ Candlelight is a magical musical experience in beautiful candlelit venues. Buy your tickets now for this Candlelight concert : Tribute to Coldplay VS Imagine Dragons in Paris! \n\n\n\nHouse of Oceans in Paris joins forces with Candlelight to offer you an exceptional evening in the heart of the Latin Quarter in the charm of a Florentine palace.  \n\n\n\nArtistes : String quartet – Ensemble Paname \n\n\n\nDuration: 60 minutes (approximately). The doors open 45 minutes before the start of the concert and latecomers cannot be accommodatedrrive as early as 7pm to get the evening off to a great start and good seats.
URL:https://mnanaheireann.com/event/candlelight-tribute-to-coldplay-vs-imagine-dragons/
LOCATION:Maison de l’Océan
CATEGORIES:Music
ATTACH;FMTTYPE=image/avif:https://mnanaheireann.com/wp-content/uploads/2024/11/Mna_events_Coldplay-Candlelight.avif
END:VEVENT
BEGIN:VEVENT
DTSTART;TZID=Europe/Paris:20250206T200000
DTEND;TZID=Europe/Paris:20250206T223000
DTSTAMP:20260422T124831
CREATED:20250203T143035Z
LAST-MODIFIED:20250203T143914Z
UID:30837-1738872000-1738881000@mnanaheireann.com
SUMMARY:Chansons d'Hier et Aujourd'hui @Belharra in Versailles
DESCRIPTION:Performers : Augustin on vocals & guitar joined by Dimitri on violin \n\n\n\nLe Belharra is more than a restaurant – it’s a friendly gathering venue in the heart of Versailles\, around the corner from the Place du Marché and a nice walk from the Château de Versailles. A true haven to enjoy and relax in with a  private courtyard and a vast terrace seating over 100 guests in the heart of Versailles. \n\n\n\n\n\nTel: 09 56 18 44 99
URL:https://mnanaheireann.com/event/chansons-dhier-et-aujourdhui-belharra-in-versailles/
LOCATION:Le Belharra\, 3-5\, rue du Baillage\, Versailles\,\, 78000\, France
CATEGORIES:Culture,Music
ATTACH;FMTTYPE=image/jpeg:https://mnanaheireann.com/wp-content/uploads/2025/02/Mna_Partner-Belharra_events.6.2.2025.jpg
END:VEVENT
BEGIN:VEVENT
DTSTART;TZID=Europe/Paris:20250214T213000
DTEND;TZID=Europe/Paris:20250214T230000
DTSTAMP:20260422T124831
CREATED:20250201T141127Z
LAST-MODIFIED:20250201T142053Z
UID:30823-1739568600-1739574000@mnanaheireann.com
SUMMARY:Saint Valentin's Concert - Liv Monaghan
DESCRIPTION:Liv Monaghan\, Irish Jazz Singer in Paris
URL:https://mnanaheireann.com/event/saint-valentins-concert-liv-monaghan/
LOCATION:La Babilo Club\, 9 rue du Baigneur\, Paris\, 75018\, France
CATEGORIES:Culture,Mná Events,Music
ATTACH;FMTTYPE=image/jpeg:https://mnanaheireann.com/wp-content/uploads/2025/02/Mna_Events.LivMonaghan2.2025.jpg
END:VEVENT
BEGIN:VEVENT
DTSTART;TZID=Europe/Paris:20250220T193000
DTEND;TZID=Europe/Paris:20250220T210000
DTSTAMP:20260422T124831
CREATED:20241230T181125Z
LAST-MODIFIED:20241230T181326Z
UID:30256-1740079800-1740085200@mnanaheireann.com
SUMMARY:Triple Bill: Farah Elle\, Stephen James Smith\, Áine Gallagher
DESCRIPTION:A unique blend of Literature\, Comedy and Music at the Irish Cultural Centre in Paris\n\n\n\n\n\nThis special evening blends words and music. Two of the artists are in residence at the Irish Cultural Centre. The singer Farah Elle and the slam poet Stephen James Smith\, will be joined by the comedian Áine Gallagher.  \n\n\n\nKnown as the “queen of the offbeat\,” Áine Gallagher is an award-winning comedian who is fast becoming one of Ireland’s most original comic acts. Deeply defined by her Libyan roots\, singer-songwriter Farah Elle will share with us her very own songs for piano as well as intimate selections from her debut album\, Fatima (2022). Her music enchantingly weaves together pop\, touches of R’n’B and jazz and Middle Eastern music. And\, Stephen James Smith will recite his critically acclaimed poems including some written during his stay in Paris. 
URL:https://mnanaheireann.com/event/triple-bill-farah-elle-stephen-james-smith-aine-gallagher/
LOCATION:Irish Cultural Centre\, 5 rue des Irlandais\, Paris\, 75005\, France
CATEGORIES:Culture,Music
ATTACH;FMTTYPE=image/jpeg:https://mnanaheireann.com/wp-content/uploads/2024/12/Mna_events_ICC-triple-bill.jpg
END:VEVENT
END:VCALENDAR