BEGIN:VCALENDAR
VERSION:2.0
PRODID:-//Mná na hÉireann - ECPv6.15.20//NONSGML v1.0//EN
CALSCALE:GREGORIAN
METHOD:PUBLISH
X-WR-CALNAME:Mná na hÉireann
X-ORIGINAL-URL:https://mnanaheireann.com
X-WR-CALDESC:Events for Mná na hÉireann
REFRESH-INTERVAL;VALUE=DURATION:PT1H
X-Robots-Tag:noindex
X-PUBLISHED-TTL:PT1H
BEGIN:VTIMEZONE
TZID:Europe/Paris
BEGIN:DAYLIGHT
TZOFFSETFROM:+0100
TZOFFSETTO:+0200
TZNAME:CEST
DTSTART:20240331T010000
END:DAYLIGHT
BEGIN:STANDARD
TZOFFSETFROM:+0200
TZOFFSETTO:+0100
TZNAME:CET
DTSTART:20241027T010000
END:STANDARD
BEGIN:DAYLIGHT
TZOFFSETFROM:+0100
TZOFFSETTO:+0200
TZNAME:CEST
DTSTART:20250330T010000
END:DAYLIGHT
BEGIN:STANDARD
TZOFFSETFROM:+0200
TZOFFSETTO:+0100
TZNAME:CET
DTSTART:20251026T010000
END:STANDARD
BEGIN:DAYLIGHT
TZOFFSETFROM:+0100
TZOFFSETTO:+0200
TZNAME:CEST
DTSTART:20260329T010000
END:DAYLIGHT
BEGIN:STANDARD
TZOFFSETFROM:+0200
TZOFFSETTO:+0100
TZNAME:CET
DTSTART:20261025T010000
END:STANDARD
END:VTIMEZONE
BEGIN:VEVENT
DTSTART;TZID=Europe/Paris:20250313T210000
DTEND;TZID=Europe/Paris:20250313T223000
DTSTAMP:20260422T110850
CREATED:20250220T154927Z
LAST-MODIFIED:20250220T154928Z
UID:30918-1741899600-1741905000@mnanaheireann.com
SUMMARY:Concert de la St Patrick - MOHER-Bzh
DESCRIPTION:Organised by the Association Irlandaise\n\n\n\n\n\nTo celebrate St Patrick’s Day 2025\, we invite you to take a musical journey with the Breton group Moher-Bzh! Hailing from Rennes\, this quartet formed in 2020 embodies a unique fusion of Celtic sounds and influences from all over the world. \n\n\n\nMoher-Bzh\, whose 2nd album is due for release in spring 2025\, is made up of Corentin Quimbert (guitar)\, Antoine Pihier (whistles\, flute)\, Konan Goré (violin) and Anthony Debray (bodhràn\, tabla\, bendir\, Tibetan bowl\, chimes\, etc.). \n\n\n\nTransport: Métro Garibaldi (ligne 13) Mairie de Saint-Ouen (ligne 14) Saint-Ouen (RER C)
URL:https://mnanaheireann.com/event/concert-de-la-st-patrick-moher-bzh/
LOCATION:Association Irlandaise\, 59\, avenue Gabriel Péri\, Saint Quen\, 93400\, France
CATEGORIES:Culture,Music
END:VEVENT
BEGIN:VEVENT
DTSTART;TZID=Europe/Paris:20250322T100000
DTEND;TZID=Europe/Paris:20250622T190000
DTSTAMP:20260422T110850
CREATED:20250506T124405Z
LAST-MODIFIED:20250506T172106Z
UID:31508-1742637600-1750618800@mnanaheireann.com
SUMMARY:David Bowie - Mr Jones' Long Hair  Exhibition
DESCRIPTION:For all ye Mnà Bowie fans!! \n\n\n\nMR8 gallery presents“David Bowie: Mr Jones’ Long Hair\,” an exhibition curated by David Lawrence in collaboration with renowned photographers\, Philippe Auliac\, Michel Haddi\, and Denis O’Regan. The exhibition offers a unique lens on David Bowie—not only as a musician and actor but also as a multifaceted individual shaped by a wide spectrum of cultural influences. \n\n\n\nVisitors will explore the artistic and intellectual forces that played a role in shaping Bowie’s creative universe\, including figures from literature\, music\, and visual art—ranging from Frank Sinatra and Jean Cocteau to Andy Warhol\, Miles Davis\, Salvador Dalí\, and Friedrich Nietzsche. \n\n\n\nThe exhibition features approximately 100 photographs\, including rare and previously unseen images\, accompanied by commentary from Bowie’s half-brother. The experience is enriched by a curated playlist of tracks Bowie admired\, and a behind-the-scenes film by Michel Haddi documenting one of their photo sessions.
URL:https://mnanaheireann.com/event/exhibition-photos/
CATEGORIES:Culture,Music
ATTACH;FMTTYPE=image/jpeg:https://mnanaheireann.com/wp-content/uploads/2025/05/Bowie.jpg
END:VEVENT
END:VCALENDAR