BEGIN:VCALENDAR
VERSION:2.0
PRODID:-//Mná na hÉireann - ECPv6.15.20//NONSGML v1.0//EN
CALSCALE:GREGORIAN
METHOD:PUBLISH
X-WR-CALNAME:Mná na hÉireann
X-ORIGINAL-URL:https://mnanaheireann.com
X-WR-CALDESC:Events for Mná na hÉireann
REFRESH-INTERVAL;VALUE=DURATION:PT1H
X-Robots-Tag:noindex
X-PUBLISHED-TTL:PT1H
BEGIN:VTIMEZONE
TZID:Europe/Paris
BEGIN:DAYLIGHT
TZOFFSETFROM:+0100
TZOFFSETTO:+0200
TZNAME:CEST
DTSTART:20240331T010000
END:DAYLIGHT
BEGIN:STANDARD
TZOFFSETFROM:+0200
TZOFFSETTO:+0100
TZNAME:CET
DTSTART:20241027T010000
END:STANDARD
BEGIN:DAYLIGHT
TZOFFSETFROM:+0100
TZOFFSETTO:+0200
TZNAME:CEST
DTSTART:20250330T010000
END:DAYLIGHT
BEGIN:STANDARD
TZOFFSETFROM:+0200
TZOFFSETTO:+0100
TZNAME:CET
DTSTART:20251026T010000
END:STANDARD
BEGIN:DAYLIGHT
TZOFFSETFROM:+0100
TZOFFSETTO:+0200
TZNAME:CEST
DTSTART:20260329T010000
END:DAYLIGHT
BEGIN:STANDARD
TZOFFSETFROM:+0200
TZOFFSETTO:+0100
TZNAME:CET
DTSTART:20261025T010000
END:STANDARD
END:VTIMEZONE
BEGIN:VEVENT
DTSTART;TZID=Europe/Paris:20250322T100000
DTEND;TZID=Europe/Paris:20250622T190000
DTSTAMP:20260422T074158
CREATED:20250506T124405Z
LAST-MODIFIED:20250506T172106Z
UID:31508-1742637600-1750618800@mnanaheireann.com
SUMMARY:David Bowie - Mr Jones' Long Hair  Exhibition
DESCRIPTION:For all ye Mnà Bowie fans!! \n\n\n\nMR8 gallery presents“David Bowie: Mr Jones’ Long Hair\,” an exhibition curated by David Lawrence in collaboration with renowned photographers\, Philippe Auliac\, Michel Haddi\, and Denis O’Regan. The exhibition offers a unique lens on David Bowie—not only as a musician and actor but also as a multifaceted individual shaped by a wide spectrum of cultural influences. \n\n\n\nVisitors will explore the artistic and intellectual forces that played a role in shaping Bowie’s creative universe\, including figures from literature\, music\, and visual art—ranging from Frank Sinatra and Jean Cocteau to Andy Warhol\, Miles Davis\, Salvador Dalí\, and Friedrich Nietzsche. \n\n\n\nThe exhibition features approximately 100 photographs\, including rare and previously unseen images\, accompanied by commentary from Bowie’s half-brother. The experience is enriched by a curated playlist of tracks Bowie admired\, and a behind-the-scenes film by Michel Haddi documenting one of their photo sessions.
URL:https://mnanaheireann.com/event/exhibition-photos/
CATEGORIES:Culture,Music
ATTACH;FMTTYPE=image/jpeg:https://mnanaheireann.com/wp-content/uploads/2025/05/Bowie.jpg
END:VEVENT
BEGIN:VEVENT
DTSTART;TZID=Europe/Paris:20250517T200000
DTEND;TZID=Europe/Paris:20250517T233000
DTSTAMP:20260422T074158
CREATED:20250417T174622Z
LAST-MODIFIED:20250505T213020Z
UID:31347-1747512000-1747524600@mnanaheireann.com
SUMMARY:EuroVision 2025 - Let's Party in Paris ...
DESCRIPTION:All invited to enjoy big screen viewing of the Eurovision and dancing into the night in central Paris.  \n\n\n\nMná na hÉireann invites you and friends to gather and watch the Eurovision Song Contest 2025 televised from Basel\, on Saturday 17 May at 9pm.\n\n\n\nThe Hosts – 3 Female Trio!\n\n\n\nThe Trio symbolises the values that define Switzerland: openness\, diversity\, multilingualism and a sense of togetherness. They will celebrate Europe’s diversity\, but also bring the true values and spirit of Switzerland to the stage – a country known for its openness\, integration and community. \n\n\n\nWelcome Home! \n\n\n\nThis year\, the Eurovision is returning to its origins\, right back to when the first Contest came to us from Switzerland in 1956.  \n\n\n\nGet your guna out and why not your ABBA outfit? Let’s Party Barbie…! Happy Hour till 11pm
URL:https://mnanaheireann.com/event/eurovision-2025-lets-party/
LOCATION:O’Sullivans\, 6 place de la Bastille\, Paris\, PARIS\, 75012\, France
CATEGORIES:Culture,Music
ATTACH;FMTTYPE=image/jpeg:https://mnanaheireann.com/wp-content/uploads/2025/04/Mna_Events_Eurovision.jpg
END:VEVENT
BEGIN:VEVENT
DTSTART;TZID=Europe/Paris:20250523T200000
DTEND;TZID=Europe/Paris:20250523T220000
DTSTAMP:20260422T074158
CREATED:20250412T184128Z
LAST-MODIFIED:20250412T185418Z
UID:31290-1748030400-1748037600@mnanaheireann.com
SUMMARY:Céilí Mór with Edwina Guckian
DESCRIPTION:Springtime céilí at the Irish Cultural Centre in Paris!   \n\n\n\n\n\nEdwina Guckian is the artistic director of Leitrim Dance project and an award-winning dancer herself. Coming from a family steeped in the tradition of music and dance\, her style is greatly influenced by the local music she grew up in Ireland. Edwina will take on the roll of caller “dance leader” for CCI’s springtime céilí. Whether you are a seasoned dancer or a first-timer\, she is sure to have you up on the floor enjoying Irish jigs\, polkas and reels! \n\n\n\nDrinks and foodtruck in the courtyard
URL:https://mnanaheireann.com/event/springtime-ceili-at-the-irish-cultural-centre-in-paris/
LOCATION:Irish Cultural Centre\, 5 rue des Irlandais\, Paris\, 75005\, France
CATEGORIES:Culture,Music
ATTACH;FMTTYPE=image/jpeg:https://mnanaheireann.com/wp-content/uploads/2025/04/Mna_Events_Edwina-Guckian.jpg
END:VEVENT
BEGIN:VEVENT
DTSTART;TZID=Europe/Paris:20250529T210000
DTEND;TZID=Europe/Paris:20250529T230000
DTSTAMP:20260422T074158
CREATED:20250514T231327Z
LAST-MODIFIED:20250515T134159Z
UID:31635-1748552400-1748559600@mnanaheireann.com
SUMMARY:Live Irish Music with Sinéad McKenna and Micky Fearon / duo Cazin-Cheramy
DESCRIPTION:A unique blend of Musicians lined up for an evening of entertainment thanks to the Association Irlandaise de Paris. \n\n\n\nFor its 3rd concert of the season\, the Irish Association is delighted to welcome two of the most renowned musicians on the current Irish scene: Sinéad McKenna (fiddle) and Micky Fearon (guitar\, vocals)\, forming an internationally acclaimed duo.The 1st part of this Franco-Irish concert will feature Esther Cazin (fiddle) and Mathilde Cheramy (flute)\, two talented musicians who have performed many times and are well known in the Irish Association.  \n\n\n\n\n\nThe Association Irlandaise organises weekly workshops\, courses\, concerts\, ceilis\, sessions and other public presentations\, with the aim of helping people discover and practice traditional Irish culture. contact@association-irlandaise.org \n\n\nRead more: Swan Lake – Dublin
URL:https://mnanaheireann.com/event/live-irish-music-with-sinead-mckenna-and-micky-fearon-duo-cazin-cheramy/
LOCATION:Association Irlandaise\, c/o Maison Basque de Paris - 59 avenue Gabriel Péri\, SAINT-OUEN\, 93400\, France
CATEGORIES:Culture,Music
ATTACH;FMTTYPE=image/jpeg:https://mnanaheireann.com/wp-content/uploads/2025/05/Mna_Events-Asso-Irlandais-1.jpg
END:VEVENT
BEGIN:VEVENT
DTSTART;TZID=Europe/Paris:20250530T183000
DTEND;TZID=Europe/Paris:20250530T213000
DTSTAMP:20260422T074158
CREATED:20250515T140134Z
LAST-MODIFIED:20250515T140410Z
UID:31659-1748629800-1748640600@mnanaheireann.com
SUMMARY:Masterclass with Sinéad McKenna and Micky Fearon - Paris 5ème
DESCRIPTION:A unique Masterclass lined up for an evening of learning and entertainment thanks to the Association Irlandaise de Paris.\n\n\n\nImmerse yourself in the musical world of Sinéad McKenna\, a fiddler from County Tyrone\, Ireland. She recently made her mark on the traditional music scene with her debut album\, “Faoi Lán Ceoil”\, released in March 2024. Her style is characterized by exceptional technical mastery and an ability to infuse each track with a lively energy\, combining limpid melodies with bold variations. \n\n\n\nMicky Fearon\, singer and guitarist from County Armagh\, Ireland\, grew up in a family deeply rooted in traditional Irish music. He invites you to discover the techniques of accompanying on guitar or bouzouki\, inspired by traditional songs from Micky’s native region. \n\n\n\nSinéad and Micky will each lead a parallel masterclass lasting a total of 3 hours\, divided into two 90-minute workshops with a break in between. Designed for intermediate to advanced melodists\, and are open to all instruments. Singers (all levels accepted)\, are welcome as well as accompanists (guitar\, bouzouki) of intermediate to advanced level. \n\n\n\nThe classes will be held on Friday May 30th from 6:30pm\, in two close-by venues in Paris: \n\n\n\n\n\n \n\n\nRead more: Swan Lake – Dublin
URL:https://mnanaheireann.com/event/masterclass-with-sinead-mckenna-and-micky-fearon/
LOCATION:Atelier d’archèterie de Benoît Le Roux\, 35\, rue de la Clef\, Paris\, 75\, France
CATEGORIES:Culture,Music
ATTACH;FMTTYPE=image/jpeg:https://mnanaheireann.com/wp-content/uploads/2025/05/Mna_Events_Asso-masterclasses.jpg
END:VEVENT
END:VCALENDAR