BEGIN:VCALENDAR
VERSION:2.0
PRODID:-//Mná na hÉireann - ECPv6.15.20//NONSGML v1.0//EN
CALSCALE:GREGORIAN
METHOD:PUBLISH
X-WR-CALNAME:Mná na hÉireann
X-ORIGINAL-URL:https://mnanaheireann.com
X-WR-CALDESC:Events for Mná na hÉireann
REFRESH-INTERVAL;VALUE=DURATION:PT1H
X-Robots-Tag:noindex
X-PUBLISHED-TTL:PT1H
BEGIN:VTIMEZONE
TZID:Europe/Paris
BEGIN:DAYLIGHT
TZOFFSETFROM:+0100
TZOFFSETTO:+0200
TZNAME:CEST
DTSTART:20240331T010000
END:DAYLIGHT
BEGIN:STANDARD
TZOFFSETFROM:+0200
TZOFFSETTO:+0100
TZNAME:CET
DTSTART:20241027T010000
END:STANDARD
BEGIN:DAYLIGHT
TZOFFSETFROM:+0100
TZOFFSETTO:+0200
TZNAME:CEST
DTSTART:20250330T010000
END:DAYLIGHT
BEGIN:STANDARD
TZOFFSETFROM:+0200
TZOFFSETTO:+0100
TZNAME:CET
DTSTART:20251026T010000
END:STANDARD
BEGIN:DAYLIGHT
TZOFFSETFROM:+0100
TZOFFSETTO:+0200
TZNAME:CEST
DTSTART:20260329T010000
END:DAYLIGHT
BEGIN:STANDARD
TZOFFSETFROM:+0200
TZOFFSETTO:+0100
TZNAME:CET
DTSTART:20261025T010000
END:STANDARD
END:VTIMEZONE
BEGIN:VEVENT
DTSTART;TZID=Europe/Paris:20251003T190000
DTEND;TZID=Europe/Paris:20251003T210000
DTSTAMP:20260421T230727
CREATED:20250929T100103Z
LAST-MODIFIED:20250929T100434Z
UID:33065-1759518000-1759525200@mnanaheireann.com
SUMMARY:Workshop for Stocktake on Climate Change
DESCRIPTION:Keen to play your part in climate change and following on from Mary Robinson’s visit in April\, we’ll gather\, talk and share our thoughts\, actions and ideas to support COP30 and the Global Ethical Stocktake (GES) initiative. \n\n\n\n\n\nGES is an initiative inviting participants all over the world to hold informal meetings\, to reflect and discuss on the values\, behaviours\, and responsibilities that need to be transformed so that the commitments made at the UN Climate Conferences become a reality. \n\n\n\nIn this meeting\, we’ll discuss preselected questions steming from the GES guidance. You can choose 2 questions from the list of 5 when you register to attend the workshop. These 5 guided questions from the GES hope to broaden listening and reflection on the moral dilemmas of our era and explore where we stand and how to build a fairer\, safer future. The goal of our meeting is to create feedback after our discussion and send it to the organisers of GES. All feedback will contribute to findings shared from all countries participating in this initiative ahead of the United Nations Climate Conference (COP30) to be held November 10–21\, 2025 in Belém\, Brazil.
URL:https://mnanaheireann.com/event/workshop-for-stocktake-on-climate-change/
LOCATION:Irish Cultural Centre\, 5 rue des Irlandais\, Paris\, 75005\, France
CATEGORIES:Culture,Music
ATTACH;FMTTYPE=image/jpeg:https://mnanaheireann.com/wp-content/uploads/2025/09/Mna_Events_Earth-Charter-Flyer.jpg
END:VEVENT
BEGIN:VEVENT
DTSTART;TZID=Europe/Paris:20251010T120000
DTEND;TZID=Europe/Paris:20251012T180000
DTSTAMP:20260421T230727
CREATED:20250927T151540Z
LAST-MODIFIED:20250929T100709Z
UID:33053-1760097600-1760292000@mnanaheireann.com
SUMMARY:Celtic Nua Musical Weekend in Peyriac de Mer
DESCRIPTION:CELTIC NUA  is delighted to announce an important upcoming Irish event to be hosted in the pictureque village of Peyriac de Mer. Lots of festivities\, music sessions and singing to be enjoyed by all. In 2024\, it was an exciting new chapter for Celtic Nua as it opened the official Branch of Comahltas in Occiatnie\, South of France.  \n\n\n\nAnd the culture and music continue in Peyriac de Mer with events\, sessions and classes on the programme to enjoy. Join this next Festival Irlandais in the beautiful town with lots of history.
URL:https://mnanaheireann.com/event/celtic-nua-musical-weekend-in-peyriac-de-mer-3/
LOCATION:Celtic Nua\, Peyriac de Mer\, France
CATEGORIES:Culture,Mná Events,Music
ATTACH;FMTTYPE=image/jpeg:https://mnanaheireann.com/wp-content/uploads/2025/09/Mna_Events_Celtic-Nua-e1759140407349.jpg
END:VEVENT
BEGIN:VEVENT
DTSTART;TZID=Europe/Paris:20251017T200000
DTEND;TZID=Europe/Paris:20251017T220000
DTSTAMP:20260421T230727
CREATED:20251012T182450Z
LAST-MODIFIED:20251012T192202Z
UID:33198-1760731200-1760738400@mnanaheireann.com
SUMMARY:A Tribute to Elvis by Candelight - Dublin
DESCRIPTION:Discover an incredible live band perform many famous Elvis hits by Candlelight at the stunning St. Patricks Cathedral\, Dublin. \n\n\n\n \n\n\n\n \n\n\n\nBlue suede shoes\, Jail House Rock\, Suspicious Minds\, Devil in Disguise\, The Wonder of You and many more….! \n\n\n\nFeaturing a spectacular live band\, epic backing vocalists – tickets selling out fast – book your tickets now. \n\n\n\nElvis tribute by candlelight at St Patrick’s Cathedral\, Dublin\, Friday 17th October \n\n\n\nPerforming at this event: Ciaran Houlihan
URL:https://mnanaheireann.com/event/a-tribute-to-elvis-by-candelight-dublin/
LOCATION:St Patrick’s Cathedral\, St Patrick's Close\, Dublin\, D08 H6X3\, Ireland
CATEGORIES:Culture,Music
ATTACH;FMTTYPE=image/jpeg:https://mnanaheireann.com/wp-content/uploads/2025/10/Mna_Events_ElvisDublin-Candlelight.jpg
END:VEVENT
BEGIN:VEVENT
DTSTART;TZID=Europe/Paris:20251018T190000
DTEND;TZID=Europe/Paris:20251018T203000
DTSTAMP:20260421T230727
CREATED:20250804T165309Z
LAST-MODIFIED:20251012T192104Z
UID:32671-1760814000-1760819400@mnanaheireann.com
SUMMARY:A Tribute to Joni Mitchell by Liv Monaghan - Paris
DESCRIPTION:Hommage à Joni Mitchell by Liv Monaghan \n\n\n\n October 18 @ 7:00 pm – 8:30 pm \n\n\n\nSeize this opportunity to experience a very talented Irish artist with the voice of an angel and with great musicians by her side. Weaving a deeply artistic pattern of different creative experiences together to offer songs that pull threads from Jazz\, Soul\, Folk\, and Romanticism to create an alternative and essentially poetic sound. \n\n\n\n \n\n\n\nMná Member performing at  \n\n\n\nSunset Side Jazz Club – Chatelet \n\n\n\n\n\nVenue Address : 60 rue des Lombards\, 75001 Paris
URL:https://mnanaheireann.com/event/hommage-a-joni-mitchell-by-liv-monaghan/
CATEGORIES:Culture,Mná Events,Music
ATTACH;FMTTYPE=image/jpeg:https://mnanaheireann.com/wp-content/uploads/2025/08/Mna_Events-Liv-Sat.18.10.2025-19H00.jpg
END:VEVENT
END:VCALENDAR