BEGIN:VCALENDAR
VERSION:2.0
PRODID:-//Mná na hÉireann - ECPv6.15.20//NONSGML v1.0//EN
CALSCALE:GREGORIAN
METHOD:PUBLISH
X-WR-CALNAME:Mná na hÉireann
X-ORIGINAL-URL:https://mnanaheireann.com
X-WR-CALDESC:Events for Mná na hÉireann
REFRESH-INTERVAL;VALUE=DURATION:PT1H
X-Robots-Tag:noindex
X-PUBLISHED-TTL:PT1H
BEGIN:VTIMEZONE
TZID:Europe/Paris
BEGIN:DAYLIGHT
TZOFFSETFROM:+0100
TZOFFSETTO:+0200
TZNAME:CEST
DTSTART:20240331T010000
END:DAYLIGHT
BEGIN:STANDARD
TZOFFSETFROM:+0200
TZOFFSETTO:+0100
TZNAME:CET
DTSTART:20241027T010000
END:STANDARD
BEGIN:DAYLIGHT
TZOFFSETFROM:+0100
TZOFFSETTO:+0200
TZNAME:CEST
DTSTART:20250330T010000
END:DAYLIGHT
BEGIN:STANDARD
TZOFFSETFROM:+0200
TZOFFSETTO:+0100
TZNAME:CET
DTSTART:20251026T010000
END:STANDARD
BEGIN:DAYLIGHT
TZOFFSETFROM:+0100
TZOFFSETTO:+0200
TZNAME:CEST
DTSTART:20260329T010000
END:DAYLIGHT
BEGIN:STANDARD
TZOFFSETFROM:+0200
TZOFFSETTO:+0100
TZNAME:CET
DTSTART:20261025T010000
END:STANDARD
BEGIN:DAYLIGHT
TZOFFSETFROM:+0100
TZOFFSETTO:+0200
TZNAME:CEST
DTSTART:20270328T010000
END:DAYLIGHT
BEGIN:STANDARD
TZOFFSETFROM:+0200
TZOFFSETTO:+0100
TZNAME:CET
DTSTART:20271031T010000
END:STANDARD
END:VTIMEZONE
BEGIN:VEVENT
DTSTART;TZID=Europe/Paris:20251101T140000
DTEND;TZID=Europe/Paris:20251101T220000
DTSTAMP:20260421T211936
CREATED:20251024T095739Z
LAST-MODIFIED:20251024T100532Z
UID:33312-1762005600-1762034400@mnanaheireann.com
SUMMARY:International Uilleann Piping Day - Paris
DESCRIPTION:Organised by the Association Irlandaise de Paris\n\n\n\n\n\nCome to the Irish Cultural Centre for the first ever celebration in Paris of the International Uilleann Piping Day. The Association Irlandais in cooperation with Na Píobairí Uilleann in Dublin\, and the support of Culture Ireland will celebrate this famous instrument and the visit of a great Irish piper\, Peter Browne\, who learned from the greatest (Séamus Ennis\, William Clancy\, Leo Rowsome). He has distinguished himself with legendary groups (the Bothy Band) and accompanied great artists of traditional Irish music (Mary Black\, The Chieftains\, the Dubliners). \n\n\n\nOn this very special day with Peter Browne\, a whole series of events (workshop\, conference\, “try the pipes”\, recital)\, some free (including for neophytes in music or children)\, some require tickets.  \n\n\n\nAt 8:30pm\, join a magnificent closing recital at the St. Patrick’s Chapel by Peter Browne and musicians of the Association Irlandaise de Paris – fiddle\, flute\, uilleann pipes\, guitar. Tickets required.
URL:https://mnanaheireann.com/event/international-uilleann-piping-day-paris/
LOCATION:Irish Cultural Centre\, 5 rue des Irlandias\, Paris\, 75005\, France
CATEGORIES:Culture,Music
ATTACH;FMTTYPE=image/jpeg:https://mnanaheireann.com/wp-content/uploads/2025/10/Mna_Events_NPU-Nov.2025.jpg
END:VEVENT
BEGIN:VEVENT
DTSTART;TZID=Europe/Paris:20251116T100000
DTEND;TZID=Europe/Paris:20260104T190000
DTSTAMP:20260421T211936
CREATED:20251115T200107Z
LAST-MODIFIED:20251115T201002Z
UID:33518-1763287200-1767553200@mnanaheireann.com
SUMMARY:Le Grand Rex Studios : Interactive Backstage Tour - Paris
DESCRIPTION:An experience for ALL ages – Discover the enchanted backstage world of the world famous Parisian cinema Le Grand Rex\n\n\n\n\n\nThis iconic cinema dates back to the 1930s\, when Jacques Haik\, a wealthy movie producer\, distributor and owner of the Olymia\, desired an extravagant building with a capacity of 5000 spectators with a ceiling peaking at more than 30 meters\, representing a luminous starry vault. \n\n\n\nTribute to its architect Auguste Bluysen and engineer John Eberson. The façade was designed by the sculptor Henri-Édouard Navarre and the decoration of the great hall was by Maurice Dufrène. The Grand Rex is a scale model of the famous Radio City Music Hall in New York City. \n\n\n\n🎥 Explore\, accompanied by an audioguide\, the huge auditorium and secret corners of an Art Deco-style cinema📸 Admire archive footage of cinema icons who frequented Le Grand Rex🎬 Have fun with interactive activities\, like manipulating a reel or using special effects to bring your own work to life
URL:https://mnanaheireann.com/event/le-grand-rex-studios-interactive-backstage-tour-paris/
LOCATION:Le Grand Rex\, 1\, Boulevard Poissonnière\,\, Paris\, 75002\, France
CATEGORIES:Culture,Music
ATTACH;FMTTYPE=image/jpeg:https://mnanaheireann.com/wp-content/uploads/2025/11/Mna_Events_GrandRexFacade.jpg
END:VEVENT
END:VCALENDAR