BEGIN:VCALENDAR
VERSION:2.0
PRODID:-//Mná na hÉireann - ECPv6.15.20//NONSGML v1.0//EN
CALSCALE:GREGORIAN
METHOD:PUBLISH
X-ORIGINAL-URL:https://mnanaheireann.com
X-WR-CALDESC:Events for Mná na hÉireann
REFRESH-INTERVAL;VALUE=DURATION:PT1H
X-Robots-Tag:noindex
X-PUBLISHED-TTL:PT1H
BEGIN:VTIMEZONE
TZID:Europe/Paris
BEGIN:DAYLIGHT
TZOFFSETFROM:+0100
TZOFFSETTO:+0200
TZNAME:CEST
DTSTART:20250330T010000
END:DAYLIGHT
BEGIN:STANDARD
TZOFFSETFROM:+0200
TZOFFSETTO:+0100
TZNAME:CET
DTSTART:20251026T010000
END:STANDARD
BEGIN:DAYLIGHT
TZOFFSETFROM:+0100
TZOFFSETTO:+0200
TZNAME:CEST
DTSTART:20260329T010000
END:DAYLIGHT
BEGIN:STANDARD
TZOFFSETFROM:+0200
TZOFFSETTO:+0100
TZNAME:CET
DTSTART:20261025T010000
END:STANDARD
BEGIN:DAYLIGHT
TZOFFSETFROM:+0100
TZOFFSETTO:+0200
TZNAME:CEST
DTSTART:20270328T010000
END:DAYLIGHT
BEGIN:STANDARD
TZOFFSETFROM:+0200
TZOFFSETTO:+0100
TZNAME:CET
DTSTART:20271031T010000
END:STANDARD
END:VTIMEZONE
BEGIN:VEVENT
DTSTART;TZID=Europe/Paris:20260416T203000
DTEND;TZID=Europe/Paris:20260416T230000
DTSTAMP:20260422T022851
CREATED:20260303T002548Z
LAST-MODIFIED:20260306T111658Z
UID:35008-1776371400-1776380400@mnanaheireann.com
SUMMARY:Kim Wilde in Marseille\, Toulouse\, Bordeaux\, Rennes\, Paris
DESCRIPTION:For those who remember this great popstar from the 80s\, Kim Wilde will give a concert in the CEPAC Silo. Kids in America\, Cambodia\, You Came and many more of her popular songs to delight the fans.  \n\n\n\nKim Wilde is a real Show Woman\, the promise of an incredibly vibrant concert. She will also be playing in Toulouse\, Bordeaux\, Rennes and Paris.
URL:https://mnanaheireann.com/event/kim-wilde-in-marseille-april-16th-also-in-toulouse-bordeaux-rennes-and-paris/
LOCATION:CEPAC Silo\, 35 Quai du Lazaret\, Marseille\, 13002\, France
CATEGORIES:Music
ATTACH;FMTTYPE=image/jpeg:https://mnanaheireann.com/wp-content/uploads/2026/03/Kim-Wilde-v2-1.jpg
END:VEVENT
BEGIN:VEVENT
DTSTART;TZID=Europe/Paris:20260526T200000
DTEND;TZID=Europe/Paris:20260526T223000
DTSTAMP:20260422T022851
CREATED:20260309T195806Z
LAST-MODIFIED:20260309T195809Z
UID:35024-1779825600-1779834600@mnanaheireann.com
SUMMARY:Mary Black\, The Slan Tour - Ireland
DESCRIPTION:The farewell tour of this wonderful Irish Artist.  \n\n\n\nMary Black has been signing to us for decades and has allowed us to carry a little piece of Ireland no matter where we go when we listen to her beautiful songs. \n\n\n\nFor this “Slan Tour”\, Mary Black will play in the Aviva Stadium\, but there are other venues and dates listed on the website
URL:https://mnanaheireann.com/event/mary-black-the-slan-tour-ireland/
LOCATION:The Aviva Stadium Dublin Ireland\, Lansdowne Road\, Dublin\, D04 K5F9\, Ireland
CATEGORIES:Music
ATTACH;FMTTYPE=image/jpeg:https://mnanaheireann.com/wp-content/uploads/2026/03/Mary-Black-v2.jpg
END:VEVENT
BEGIN:VEVENT
DTSTART;TZID=Europe/Paris:20260526T200000
DTEND;TZID=Europe/Paris:20260526T230000
DTSTAMP:20260422T022851
CREATED:20251203T195630Z
LAST-MODIFIED:20251203T195904Z
UID:33585-1779825600-1779836400@mnanaheireann.com
SUMMARY:Christopher Cross Concert - Dublin May 2026
DESCRIPTION:For those of us who remember Sailing\, Ride like the Wind and the film “Arthur” amongst many others\, this is the chance to relish in Christopher Cross’  suave voice for a couple of hours in Dublin.  \n\n\n\nBord Gais is such a great place and the acoustics are wondeful\, there is also a lovely bar for a pre-concert drink! \n\n\n\nOn the 24th and the 26th of May 2026\, the 24th is full!   See you there!
URL:https://mnanaheireann.com/event/christopher-cross-in-dublin/
LOCATION:Bord Gais Energy Theatre\, Grand Canal Square\, Dublin 2\, Ireland
CATEGORIES:Culture,Music
ATTACH;FMTTYPE=image/jpeg:https://mnanaheireann.com/wp-content/uploads/2025/11/Mna_Events_2026_Bord-Gais.jpg
END:VEVENT
BEGIN:VEVENT
DTSTART;TZID=Europe/Paris:20260614T193000
DTEND;TZID=Europe/Paris:20260713T223000
DTSTAMP:20260422T022851
CREATED:20260331T184303Z
LAST-MODIFIED:20260331T185415Z
UID:35392-1781465400-1783981800@mnanaheireann.com
SUMMARY:La Traviata à l'Opera de Paris
DESCRIPTION:Pleasure but not love: this is what the heroine of La Traviata quickly understands\, summoned by right-minded people to stay in her place. \n\n\n\nFor the director Simon Stone\, skilled in reinscribing the works in our daily life\, Violetta Valéry is not that courtesan who sells her body\, as in the time of Alexandre Dumas son\, whose novel La Dame aux camélias inspired the opera by Giuseppe Verdi. \n\n\n\nShe is a diva of social networks who sells her image through ‘selfies’ and ‘likes’. But this hyperconnected world does not prevent the beautiful\, as in the 19th century\, from having to sacrifice her love for Alfredo at the altar of morality. \n\n\n\nThis contemporary reading accords with the intentions of Verdi who\, while composing a feverish and virtuoso music\, criticizes the brutality of a society of appearance\, a machine to crush individualities. Especially when they are women who aspire to be free.
URL:https://mnanaheireann.com/event/la-traviata-a-lopera-de-paris/
LOCATION:L’Opéra de Paris Palais Garnier\, Place de l'Opéra\, Paris\, 75009\, France
CATEGORIES:Culture,Music
ATTACH;FMTTYPE=image/jpeg:https://mnanaheireann.com/wp-content/uploads/2026/03/la-traviata-5.jpg
END:VEVENT
BEGIN:VEVENT
DTSTART;TZID=Europe/Paris:20260617T183000
DTEND;TZID=Europe/Paris:20260906T213000
DTSTAMP:20260422T022851
CREATED:20260406T191613Z
LAST-MODIFIED:20260406T191617Z
UID:35375-1781721000-1788730200@mnanaheireann.com
SUMMARY:Riverdance -The New Generation Dublin 2026
DESCRIPTION:Differents times available depending on the day\, see website below \n\n\n\nRiverdance has captivated audiences with its GRAMMY award-winning music\, its mesmerising choreography and breathtaking performances \n\n\n\nRiverdance 30 – The New Generation celebrates the show’s incredible 30th year milestone\, with a special anniversary global tour\, which comes home to the Gaiety Theatre for the summer season. \n\n\n\nThe spectacular production rejuvenates the much-loved show with innovative choreography and costumes and state of the art lighting\, projection and motion graphics.  Riverdance showcases The New Generation of exceptional dancers and musicians with their electrifying energy and skill in their traditions and art.  This is Riverdance better than ever – fresh\, new and exciting with all the original magic that won the hearts of millions of fans worldwide. \n\n\n\nComposed by Bill Whelan. Produced by Moya Doherty. Directed by John McColgan.
URL:https://mnanaheireann.com/event/riverdance-the-new-generation-dublin-2026/
LOCATION:The Gaiety Theatre\, Dublin\, South King Street\, Dublin\, D02 V097
CATEGORIES:Music
ATTACH;FMTTYPE=image/webp:https://mnanaheireann.com/wp-content/uploads/2026/04/Riverdance-8.webp
END:VEVENT
BEGIN:VEVENT
DTSTART;TZID=Europe/Paris:20260619T193000
DTEND;TZID=Europe/Paris:20260705T223000
DTSTAMP:20260422T022851
CREATED:20260331T182912Z
LAST-MODIFIED:20260331T184834Z
UID:35452-1781897400-1783290600@mnanaheireann.com
SUMMARY:Oklahoma -  The Show - Dublin
DESCRIPTION:Bod Gais In-house staging of the classic Rodgers & Hammerstein masterpiece\, OKLAHOMA! \n\n\n\nThis dynamic production will bring the beloved musical to life- powered by the very best of Irish creative talent. Showcasing Irish creativity and craft on Ireland’s most prestigious stage\, audiences can expect one rootin’-tootin’\, show-stoppin’ good time! \n\n\n\nBord Gáis Energy Theatre will showcase this stunning production live on Ireland’s biggest stage- bringing a vibrant\, uplifting feel to this groundbreaking musical while celebrating all the timeless songs you know and love\, including Oh\, What a Beautiful Mornin’\, I Cain’t Say No and People Will Say We’re in Love \n\n\n\nBord Gais is such a great place and the acoustics are wondeful\, there is also a lovely bar for a pre-concert drink!
URL:https://mnanaheireann.com/event/oklahoma-the-show-dublin/
LOCATION:Bord Gais Energy Theatre\, Grand Canal Square\, Dublin 2\, Ireland
CATEGORIES:Music
ATTACH;FMTTYPE=image/jpeg:https://mnanaheireann.com/wp-content/uploads/2026/03/Oklahoma-3-1.jpg
END:VEVENT
BEGIN:VEVENT
DTSTART;TZID=Europe/Paris:20260626T130000
DTEND;TZID=Europe/Paris:20260705T223000
DTSTAMP:20260422T022851
CREATED:20260407T185543Z
LAST-MODIFIED:20260407T185546Z
UID:35358-1782478800-1783290600@mnanaheireann.com
SUMMARY:West Cork Chamber Festival
DESCRIPTION:|Immerse yourself in our world-class chamber music festival\, where renowned and emerging international and Irish musicians perform across 3 concerts a day\, masterclasses\, and fringe events against a stunning Bantry backdrop. General Booking opens on 5 March 2026.  \n\n\n\nDay time and evening concerts for adults and for children as well as Candlelit late night concerts. Chck out the web site for the different artists that will be preforming.   \n\n\n\nDifferent venues around Bantry for each concert.
URL:https://mnanaheireann.com/event/west-cork-chamber-festival/
LOCATION:Bantry House\, Bantry\, West Cork\, Ireland
CATEGORIES:Music
ATTACH;FMTTYPE=image/jpeg:https://mnanaheireann.com/wp-content/uploads/2026/04/West-Cork-Chamber-Festival.jpg
END:VEVENT
BEGIN:VEVENT
DTSTART;TZID=Europe/Paris:20260720T120000
DTEND;TZID=Europe/Paris:20260803T000000
DTSTAMP:20260422T022852
CREATED:20260126T194022Z
LAST-MODIFIED:20260210T185605Z
UID:34609-1784548800-1785715200@mnanaheireann.com
SUMMARY:JAZZ IN MARCIAC 2026
DESCRIPTION:If you are holidaying in the Toulouse area or have not yet planned to\, now is the time to think about it! \n\n\n\nEvery year the small village of Marciac\, in the Gers\, hosts the most incredible music festival\, principally Jazz but not only. Once again\, Sting is at the top of the billing this year\, after Sanatana\, Georges Benson… in the past. As Editor for the Events on Mna na hEireann\, I was lucky enough to go there 3 times and saw Sting about 4 or 5 years ago. It was an incredible event and would strongly recommend.  \n\n\n\nIn the stiffling heat of the southwest\, in the middle of the summer\, you will love the atmosphere and never forget the experience! \n\n\n\nEven if you don’t book tickets to the concerts\, there are lots of free entertainment to be enjoyed around this charming village with food stalls\, night markets and fun in ambundance.
URL:https://mnanaheireann.com/event/jazz-in-marciac-2026/
LOCATION:Chapiteau – MARCIAC\, 8 place du Chevalier D'Antras\, Marciac\, 32230\, France
CATEGORIES:Music
ATTACH;FMTTYPE=image/webp:https://mnanaheireann.com/wp-content/uploads/2026/01/MARCIAC.webp
END:VEVENT
BEGIN:VEVENT
DTSTART;TZID=Europe/Paris:20260731T120000
DTEND;TZID=Europe/Paris:20260809T000000
DTSTAMP:20260422T022852
CREATED:20260309T215152Z
LAST-MODIFIED:20260409T211522Z
UID:35233-1785499200-1786233600@mnanaheireann.com
SUMMARY:Interceltique Festival  2026 - Lorient
DESCRIPTION:An incredible annual event to celebrate Celtic music. For this year’s festival artists from various countries will participate in this 10 day event and naturally\, amongst them\, the Irish Dervish\, Desi Wilkinson\, The Leonard Barry Trio and the Wran.  \n\n\n\nStages for open-air concerts and several indoor venues around the town to host the different celtic talents. Lots of free fun and animation\, food and drink all available during the festival. There will also be  but also games\, competitions and exhibitions  making it a great outing for the whole family.
URL:https://mnanaheireann.com/event/interceltique-festival-2026-lorient/
LOCATION:Palais des Congrés Lorient\, 1 Rue Pierre Thevenoux\, Lorient\, 56100\, France
CATEGORIES:Music
ATTACH;FMTTYPE=image/png:https://mnanaheireann.com/wp-content/uploads/2026/03/Mna_Events_Interceltique2026.png
END:VEVENT
BEGIN:VEVENT
DTSTART;TZID=Europe/Paris:20260818T200000
DTEND;TZID=Europe/Paris:20260823T230000
DTSTAMP:20260422T022852
CREATED:20260409T210153Z
LAST-MODIFIED:20260409T210618Z
UID:35371-1787083200-1787526000@mnanaheireann.com
SUMMARY:Swan Lake - Dublin
DESCRIPTION:The Santiago Ballet company will perfrom Swan Lake in the Bord Gais Energy Theatre! \n\n\n\n \n\n\n\nMatthew Bourne’s audacious\, rule-breaking reinvention of Tchaikovsky’s masterpiece caused a sensation when it premiered almost 30 years ago. It has now become the most successful dance theatre production of all time\, creating new audiences and inspiring generations of young dancers. \n\n\n\nIn celebration of that ongoing impact\, SWAN LAKE will take flight once more in a major new revival for the next generation of dancers\, and for audiences who will experience it for the very first time. \n\n\n\nThrilling\, bold\, witty and emotive\, this genre-defining event is still best known for replacing the female corps-de-ballet with a menacing male ensemble\, which shattered convention\, turning tradition on its head.
URL:https://mnanaheireann.com/event/swan-lake-dublin/
LOCATION:Bord Gais Energy Theatre\, Grand Canal Square\, Dublin 2\, Ireland
CATEGORIES:Culture,Music
ATTACH;FMTTYPE=image/jpeg:https://mnanaheireann.com/wp-content/uploads/2026/04/Mna_Events_SwanLake.jpg
END:VEVENT
END:VCALENDAR