BEGIN:VCALENDAR
VERSION:2.0
PRODID:-//Mná na hÉireann - ECPv6.15.20//NONSGML v1.0//EN
CALSCALE:GREGORIAN
METHOD:PUBLISH
X-ORIGINAL-URL:https://mnanaheireann.com
X-WR-CALDESC:Events for Mná na hÉireann
REFRESH-INTERVAL;VALUE=DURATION:PT1H
X-Robots-Tag:noindex
X-PUBLISHED-TTL:PT1H
BEGIN:VTIMEZONE
TZID:Europe/Paris
BEGIN:DAYLIGHT
TZOFFSETFROM:+0100
TZOFFSETTO:+0200
TZNAME:CEST
DTSTART:20250330T010000
END:DAYLIGHT
BEGIN:STANDARD
TZOFFSETFROM:+0200
TZOFFSETTO:+0100
TZNAME:CET
DTSTART:20251026T010000
END:STANDARD
BEGIN:DAYLIGHT
TZOFFSETFROM:+0100
TZOFFSETTO:+0200
TZNAME:CEST
DTSTART:20260329T010000
END:DAYLIGHT
BEGIN:STANDARD
TZOFFSETFROM:+0200
TZOFFSETTO:+0100
TZNAME:CET
DTSTART:20261025T010000
END:STANDARD
BEGIN:DAYLIGHT
TZOFFSETFROM:+0100
TZOFFSETTO:+0200
TZNAME:CEST
DTSTART:20270328T010000
END:DAYLIGHT
BEGIN:STANDARD
TZOFFSETFROM:+0200
TZOFFSETTO:+0100
TZNAME:CET
DTSTART:20271031T010000
END:STANDARD
END:VTIMEZONE
BEGIN:VEVENT
DTSTART;TZID=Europe/Paris:20260731T120000
DTEND;TZID=Europe/Paris:20260809T000000
DTSTAMP:20260421T174439
CREATED:20260309T215152Z
LAST-MODIFIED:20260409T211522Z
UID:35233-1785499200-1786233600@mnanaheireann.com
SUMMARY:Interceltique Festival  2026 - Lorient
DESCRIPTION:An incredible annual event to celebrate Celtic music. For this year’s festival artists from various countries will participate in this 10 day event and naturally\, amongst them\, the Irish Dervish\, Desi Wilkinson\, The Leonard Barry Trio and the Wran.  \n\n\n\nStages for open-air concerts and several indoor venues around the town to host the different celtic talents. Lots of free fun and animation\, food and drink all available during the festival. There will also be  but also games\, competitions and exhibitions  making it a great outing for the whole family.
URL:https://mnanaheireann.com/event/interceltique-festival-2026-lorient/
LOCATION:Palais des Congrés Lorient\, 1 Rue Pierre Thevenoux\, Lorient\, 56100\, France
CATEGORIES:Music
ATTACH;FMTTYPE=image/png:https://mnanaheireann.com/wp-content/uploads/2026/03/Mna_Events_Interceltique2026.png
END:VEVENT
BEGIN:VEVENT
DTSTART;TZID=Europe/Paris:20260818T200000
DTEND;TZID=Europe/Paris:20260823T230000
DTSTAMP:20260421T174439
CREATED:20260409T210153Z
LAST-MODIFIED:20260409T210618Z
UID:35371-1787083200-1787526000@mnanaheireann.com
SUMMARY:Swan Lake - Dublin
DESCRIPTION:The Santiago Ballet company will perfrom Swan Lake in the Bord Gais Energy Theatre! \n\n\n\n \n\n\n\nMatthew Bourne’s audacious\, rule-breaking reinvention of Tchaikovsky’s masterpiece caused a sensation when it premiered almost 30 years ago. It has now become the most successful dance theatre production of all time\, creating new audiences and inspiring generations of young dancers. \n\n\n\nIn celebration of that ongoing impact\, SWAN LAKE will take flight once more in a major new revival for the next generation of dancers\, and for audiences who will experience it for the very first time. \n\n\n\nThrilling\, bold\, witty and emotive\, this genre-defining event is still best known for replacing the female corps-de-ballet with a menacing male ensemble\, which shattered convention\, turning tradition on its head.
URL:https://mnanaheireann.com/event/swan-lake-dublin/
LOCATION:Bord Gais Energy Theatre\, Grand Canal Square\, Dublin 2\, Ireland
CATEGORIES:Culture,Music
ATTACH;FMTTYPE=image/jpeg:https://mnanaheireann.com/wp-content/uploads/2026/04/Mna_Events_SwanLake.jpg
END:VEVENT
END:VCALENDAR